BEGIN:VCALENDAR
VERSION:2.0
PRODID:-//ChamberMaster//Event Calendar 2.0//EN
METHOD:PUBLISH
X-PUBLISHED-TTL:P3D
REFRESH-INTERVAL:P3D
CALSCALE:GREGORIAN
BEGIN:VEVENT
DTSTART;VALUE=DATE:20180727
DTEND;VALUE=DATE:20180729
TRANSP:TRANSPARENT
X-MICROSOFT-CDO-ALLDAYEVENT:TRUE
SUMMARY:Back to School Supplies Donation Event
DESCRIPTION:JS Homes is partnering with the MOT Rotary Club to help collect school supplies donations for families in need. MOT Rotary is packing book bags for the upcoming 2018-19 school year. Donations of supplies and/or money donations are being accepted. Supply donations may be dropped off daily to our JS Homes Odessa National Sales Model at 549 Aviemore Drive\, Townsend\, DE (Sat-Sun 11a-5p/Mon 11a-6p/Tue-Fri 10a-6p) or you can drop off to MOT Rotary at Frog Hollow on Wednesdays at 12:15p. Monetary donations can be mailed directly to MOT Rotary PO Box 201 Middletown DE 19709. The link to the Appo School District Supply list is: https://apposchooldistrict.com/apps/pages/index.jsp
X-ALT-DESC;FMTTYPE=text/html:<span style="color:rgb(29\, 33\, 41)\; font-family:system-ui\,-apple-system\,blinkmacsystemfont\,.sfnstext-regular\,sans-serif\; font-size:14px">JS Homes is partnering with the MOT Rotary Club to help collect school supplies donations for families in need. MOT Rotary is packing book bags for the upcoming 2018-19 school year. Donations of supplies and/or money donations are being accepted. Supply donations may be dropped off daily to our JS Homes Odessa National Sales Model at 549 Aviemore Drive\, Townsend\, DE (Sat-Sun 11a-5p/Mon 11a-6p/Tue-Fri 10a-6p) or you can drop off to MOT Rotary at Frog Hollow on Wednesdays at 12:15p. Monetary donations can be mailed directly to MOT Rotary PO Box 201 Middletown DE 19709. The link to the Appo School District Supply list is:&nbsp\;</span><a href="https://l.facebook.com/l.php?u=https%3A%2F%2Fapposchooldistrict.com%2Fapps%2Fpages%2Findex.jsp%3FuREC_ID%3D179323%26type%3Dd&amp\;h=AT2v_z5G08nMNL-k8otTLrGsAF4RcSjX-KtmB43ntTbos3llYqOAXL6PkbPiEVIIe3OtF5XvhvhAgqTSEcaFc81DBKU7KifbTVJbQMNSj808P3JMmP3_eVNaD8kxlGIsR0QCfmmM3FzeasmRGv7u6ldqnFph2PE" rel="noopener nofollow" style="color: rgb(54\, 88\, 153)\; cursor: pointer\; text-decoration: none\; font-family: system-ui\, -apple-system\, BlinkMacSystemFont\, &quot\;.SFNSText-Regular&quot\;\, sans-serif\; font-size: 14px\;" target="_blank">https://apposchooldistrict.com/apps/pages/index.jsp&hellip\;</a>
LOCATION:Supply donations can be dropped off at the JS Homes Sales Model in Odessa National: 549 Aviemore Drive\, Townsend\, DE Monetary Donations should be mailed to MOT Rotary PO Box 201 Middletown DE 19709
UID:e.1238.6479
SEQUENCE:3
DTSTAMP:20260425T160317Z
URL:http://business.maccde.com/events/details/back-to-school-supplies-donation-event-6479
END:VEVENT

END:VCALENDAR
