BEGIN:VCALENDAR
VERSION:2.0
PRODID:-//ChamberMaster//Event Calendar 2.0//EN
METHOD:PUBLISH
X-PUBLISHED-TTL:P3D
REFRESH-INTERVAL:P3D
CALSCALE:GREGORIAN
BEGIN:VEVENT
DTSTART:20130619T210000Z
DTEND:20130619T210000Z
X-MICROSOFT-CDO-ALLDAYEVENT:FALSE
SUMMARY:Better Business Bureau Summer Mixer
DESCRIPTION:Join the BBB for our Summer Kick Off Mixer!  Enjoy great food and fun at one of our two annual networking events - first drink included with registration.
X-ALT-DESC;FMTTYPE=text/html:Join the BBB for our Summer Kick Off Mixer! &nbsp\;Enjoy great food and fun at one of our two annual networking events - first drink included with registration.
LOCATION:Deerfield Golf & Grille 507 Thompson Station Road Newark\, DE 19711
UID:e.1238.156
SEQUENCE:3
DTSTAMP:20260421T101135Z
URL:http://business.maccde.com/events/details/better-business-bureau-summer-mixer-06-19-2013-156
END:VEVENT

END:VCALENDAR
