BEGIN:VCALENDAR
VERSION:2.0
PRODID:-//ChamberMaster//Event Calendar 2.0//EN
METHOD:PUBLISH
X-PUBLISHED-TTL:P3D
REFRESH-INTERVAL:P3D
CALSCALE:GREGORIAN
BEGIN:VEVENT
DTSTART:20190920T220000Z
DTEND:20190921T010000Z
X-MICROSOFT-CDO-ALLDAYEVENT:FALSE
SUMMARY:Brewing For Books
DESCRIPTION:Support the Friends of the Southern New Castle County Library with the Brewing for Books fundraiser at Volunteer Brewing Company\, Middletown's neighborhood brewery. VBC beer\, food\, wine\, live music\, silent auction\, children's activities and more. Advance ticket purchase recommended: https://brewingforbooks.weebly.com/tickets.html
X-ALT-DESC;FMTTYPE=text/html:Support the Friends of the Southern New Castle County Library with the Brewing for Books fundraiser at Volunteer Brewing Company\, Middletown&#39\;s neighborhood brewery. VBC beer\, food\, wine\, live music\, silent auction\, children&#39\;s activities and more. Advance ticket purchase recommended: https://brewingforbooks.weebly.com/tickets.html
LOCATION:The backyard of Volunteer Brewing Company\, located on A Street (behind the Middletown Fire Company)
UID:e.1238.7299
SEQUENCE:3
DTSTAMP:20260424T054841Z
URL:http://business.maccde.com/events/details/brewing-for-books-7299
END:VEVENT

END:VCALENDAR
