BEGIN:VCALENDAR
VERSION:2.0
PRODID:-//ChamberMaster//Event Calendar 2.0//EN
METHOD:PUBLISH
X-PUBLISHED-TTL:P3D
REFRESH-INTERVAL:P3D
CALSCALE:GREGORIAN
BEGIN:VEVENT
DTSTART:20180310T190000Z
DTEND:20180310T210000Z
X-MICROSOFT-CDO-ALLDAYEVENT:FALSE
SUMMARY:Chateau Bu-De Wine Release Party
DESCRIPTION:We are releasing three of our reds\, including the first vintage of our Cabernet Franc from our very own Bohemia Manor Farm! Join us on Saturday\, March 10th from 2:00 - 4:00pm to sample all three of the wines. Tasting begins promptly at 2:00pm. Tasting notes will be given by winemaker\, Jacques Van Der Vyver\, as he pairs them with cheese & chocolates to enjoy. Guests of this event can purchase any of the three wines afterwards at a 10% discount\, Saturday only. Reserve your space by contacting the Winery at 410.885.2500 or emailing Abigail@chateaubude.com Price | $32
X-ALT-DESC;FMTTYPE=text/html:We are releasing three of our reds\, including the first vintage of our Cabernet Franc from our very own Bohemia Manor Farm! Join us on Saturday\, March 10th from 2:00 - 4:00pm to sample all three of the wines. Tasting begins promptly at 2:00pm. Tasting notes will be given by winemaker\, Jacques Van Der Vyver\, as he pairs them with cheese &amp\; chocolates to enjoy. Guests of this event can purchase any of the three wines afterwards at a 10% discount\, Saturday only. Reserve your space by contacting the Winery at 410.885.2500 or emailing Abigail@chateaubude.com Price | $32
LOCATION:Chateau Bu-De Vineyard & Winery
UID:e.1238.4795
SEQUENCE:3
DTSTAMP:20260425T143756Z
URL:http://business.maccde.com/events/details/chateau-bu-de-wine-release-party-4795
END:VEVENT

END:VCALENDAR
