BEGIN:VCALENDAR
VERSION:2.0
PRODID:-//ChamberMaster//Event Calendar 2.0//EN
METHOD:PUBLISH
X-PUBLISHED-TTL:P3D
REFRESH-INTERVAL:P3D
CALSCALE:GREGORIAN
BEGIN:VEVENT
DTSTART:20190303T170000Z
DTEND:20190303T210000Z
X-MICROSOFT-CDO-ALLDAYEVENT:FALSE
SUMMARY:Chili Cook-Off
DESCRIPTION:Come out to sample and vote for your favorite chili prepared by eight local chefs from Barbara's on the Bay\, Crow Vineyard & Winery\, Happy Chicken Bakery\, Kitty Knight\, Luisa's\, Molly's Restaurant\, The Pearl on Main\, and Smoke Rattle and Roll.\n\nThere will be a $10.00 entry fee for the event with cash voting at each chili station. Tickets can be purchased online or on-site at the event. Make sure to bring CASH\, $1\, $5\, $20\, or whatever you wish to vote for your favorite chili!\n\nThe Animal Care Shelter for Kent County will also have various items for raffle and silent auction. All proceeds from the entry fee\, voting\, and auction items will benefit the Animal Care Shelter for Kent County\, with their fundraising goal of $5\,000 to go towards the new shelter. Come ready with cash to support our local animals in need!\n\nFor more information please email info@crowvineyard.com or call 302-304-0551.
X-ALT-DESC;FMTTYPE=text/html:<p>Come out to sample and vote for your favorite chili prepared by eight local chefs from&nbsp\;<strong><u><a href="http://www.barbarasonthebay.com/" style="box-sizing: border-box\; background-color: transparent\; color: rgb(102\, 153\, 64)\; text-decoration-line: none\; transition: all 0.2s ease-in-out 0s\; margin-bottom: 0px\;">Barbara&rsquo\;s on the Bay</a></u></strong>\,&nbsp\;<strong><u><a href="http://www.crowvineyardandwinery.com/" style="box-sizing: border-box\; background-color: transparent\; color: rgb(102\, 153\, 64)\; text-decoration-line: none\; transition: all 0.2s ease-in-out 0s\; margin-bottom: 0px\;">Crow Vineyard &amp\; Winery</a></u></strong>\,&nbsp\;<strong><u><a href="http://www.happychickenbakery.com/" style="box-sizing: border-box\; background-color: transparent\; color: rgb(102\, 153\, 64)\; text-decoration-line: none\; transition: all 0.2s ease-in-out 0s\; margin-bottom: 0px\;">Happy Chicken Bakery</a></u></strong>\,&nbsp\;<strong><u><a href="https://www.kittyknight.com/" style="box-sizing: border-box\; background-color: transparent\; color: rgb(102\, 153\, 64)\; text-decoration-line: none\; transition: all 0.2s ease-in-out 0s\; margin-bottom: 0px\;">Kitty Knight</a></u></strong>\,&nbsp\;<strong><u><a href="http://www.luisasrestaurant.com/" style="box-sizing: border-box\; background-color: transparent\; color: rgb(102\, 153\, 64)\; text-decoration-line: none\; transition: all 0.2s ease-in-out 0s\; margin-bottom: 0px\;">Luisa&rsquo\;s</a></u></strong>\,&nbsp\;<strong><u><a href="https://www.facebook.com/MollysRestaurant/" style="box-sizing: border-box\; background-color: transparent\; color: rgb(102\, 153\, 64)\; text-decoration-line: none\; transition: all 0.2s ease-in-out 0s\; margin-bottom: 0px\;">Molly&rsquo\;s Restaurant</a></u></strong>\,&nbsp\;<strong><u><a href="http://www.pearlonmain.com/" style="box-sizing: border-box\; background-color: transparent\; color: rgb(102\, 153\, 64)\; text-decoration-line: none\; transition: all 0.2s ease-in-out 0s\; margin-bottom: 0px\;">The Pearl on Main</a></u></strong>\, and&nbsp\;<strong><u><a href="http://www.smokerattleandroll.com/" style="box-sizing: border-box\; background-color: transparent\; color: rgb(102\, 153\, 64)\; text-decoration-line: none\; transition: all 0.2s ease-in-out 0s\; margin-bottom: 0px\;">Smoke Rattle and Roll</a></u></strong>.</p>\n\n<p>There will be a&nbsp\;<strong>$10.00</strong>&nbsp\;entry fee for the event with cash voting at each chili station. Tickets can be purchased online or on-site at the event. Make sure to bring&nbsp\;<strong><em>CASH</em></strong>\, $1\, $5\, $20\, or whatever you wish to vote for your favorite chili!</p>\n\n<p>The Animal Care Shelter for Kent County will also have various items for raffle and silent auction.<strong>&nbsp\;</strong>All proceeds from the entry fee\, voting\, and auction items will benefit the Animal Care Shelter for Kent County\, with their fundraising goal of $5\,000 to go towards the new shelter. Come ready with cash to support our local animals in need!</p>\n\n<p>For more information please email info@crowvineyard.com or call 302-304-0551.</p>\n
LOCATION:Crow Vineyard & Winery 12441 Vansants Corner Road Kennedyville\, MD 21645
UID:e.1238.6587
SEQUENCE:3
DTSTAMP:20260425T205618Z
URL:http://business.maccde.com/events/details/chili-cook-off-6587
END:VEVENT

END:VCALENDAR
