BEGIN:VCALENDAR
VERSION:2.0
PRODID:-//ChamberMaster//Event Calendar 2.0//EN
METHOD:PUBLISH
X-PUBLISHED-TTL:P3D
REFRESH-INTERVAL:P3D
CALSCALE:GREGORIAN
BEGIN:VEVENT
DTSTART:20130427T190000Z
DTEND:20130427T210000Z
X-MICROSOFT-CDO-ALLDAYEVENT:FALSE
SUMMARY:Fashion on Main
DESCRIPTION:1st Annual "Fashion on Main"fundraiser will show case fashions from Femme Fatale Boutique\, First & Little and Nicole J Designs. Our modlels will be from ages 2-45yrs. We will have a great selection of items from our local merchants for the silent auction.\n\nCome out and join us for a fun day of fashion and shopping and plan to spend the afternoon  in historic downtown where you can shop & dine before and after the show.\n\nMore details to come....
X-ALT-DESC;FMTTYPE=text/html:1st Annual &quot\;Fashion on Main&quot\;fundraiser will show case fashions from Femme Fatale Boutique\, First &amp\; Little and Nicole J Designs. Our modlels will be from&nbsp\;ages 2-45yrs. We will have a great selection of items from our local merchants for the silent auction.<br />\nCome out and join us for a fun day of fashion and shopping and plan to spend the afternoon&nbsp\; in historic downtown where you&nbsp\;can&nbsp\;shop &amp\; dine before and after the show.<br />\nMore details to come....
LOCATION:Connection Church W Green St\, Middletown DE
UID:e.1238.105
SEQUENCE:3
DTSTAMP:20260419T140709Z
URL:http://business.maccde.com/events/details/fashion-on-main-04-27-2013-105
END:VEVENT

END:VCALENDAR
