BEGIN:VCALENDAR
VERSION:2.0
PRODID:-//ChamberMaster//Event Calendar 2.0//EN
METHOD:PUBLISH
X-PUBLISHED-TTL:P3D
REFRESH-INTERVAL:P3D
CALSCALE:GREGORIAN
BEGIN:VEVENT
DTSTART:20130614T233000Z
DTEND:20130615T130000Z
X-MICROSOFT-CDO-ALLDAYEVENT:FALSE
SUMMARY:Jewels Of The Orient Bellydance & Wellness Festival
DESCRIPTION:Jewels of the Orient Bellydance & Wellness Festival comes to Middletown\, DE at the Everett Theatre. The festival will feature International Superstar Suraiya of Poland. The festival will bring dancers from around the region as they compete in an international contest Friday at the theatre. The grand prize winner will win a trip to Europe to teach in an international festival. Saturday the workshops begin with over 20+ hours of teaching ranging on topics from\, Holistic Health\, Dance Technique\, Fitness\, Health and Beauty. Saturday night join us as we turn the theatre into Casablanca and our dancers take center stage. The festival for 2 days is $125.00. The dance show admission fee is $7.00. All of our events are open to the public and are family oriented
X-ALT-DESC;FMTTYPE=text/html:<span lang="EN" style="color: rgb(34\, 34\, 34)\; line-height: 115%\; font-family: &quot\;Arial&quot\;\,&quot\;sans-serif&quot\;\; font-size: 9pt\; mso-fareast-font-family: Calibri\; mso-ansi-language: EN\; mso-fareast-language: EN-US\; mso-bidi-language: AR-SA\; mso-fareast-theme-font: minor-latin\;">Jewels of the Orient Bellydance &amp\; Wellness Festival comes to Middletown\, DE at the Everett Theatre. The festival will feature International Superstar Suraiya of Poland. The festival will bring dancers from around the region as they compete in an international contest Friday at the theatre. The grand prize winner will win a trip to Europe to teach in an international festival. Saturday the workshops begin with over 20+ hours of teaching ranging on topics from\, Holistic Health\, Dance Technique\, Fitness\, Health and Beauty. Saturday night join us as we turn the theatre into Casablanca and our dancers take center stage. The festival for 2 days is $125.00. The dance show admission fee is $7.00. All of our events are open to the public and are family oriented</span>
LOCATION:Everett Theatre
UID:e.1238.111
SEQUENCE:3
DTSTAMP:20260421T101654Z
URL:http://business.maccde.com/events/details/jewels-of-the-orient-bellydance-wellness-festival-06-14-2013-111
END:VEVENT

END:VCALENDAR
