BEGIN:VCALENDAR
VERSION:2.0
PRODID:-//ChamberMaster//Event Calendar 2.0//EN
METHOD:PUBLISH
X-PUBLISHED-TTL:P3D
REFRESH-INTERVAL:P3D
CALSCALE:GREGORIAN
BEGIN:VEVENT
DTSTART:20180423T223000Z
DTEND:20180424T001500Z
X-MICROSOFT-CDO-ALLDAYEVENT:FALSE
SUMMARY:MACC Standing Ovation Toastmaster Club Meeting
DESCRIPTION:Toastmasters International is a public speaking and leadership development club.  The MACC Standing Ovation Toastmasters club provides an atmosphere of encouraging warm friendly people.
X-ALT-DESC;FMTTYPE=text/html:Toastmasters International is a public speaking and leadership development club. &nbsp\;The MACC Standing Ovation Toastmasters club provides an atmosphere of encouraging warm friendly people.<br />\n&nbsp\;
LOCATION:402 N Cass Street Middletown\, DE 19709
UID:e.1238.3314
SEQUENCE:3
DTSTAMP:20260425T145939Z
URL:http://business.maccde.com/events/details/macc-standing-ovation-toastmaster-club-meeting-01-22-2018-3314
END:VEVENT

END:VCALENDAR
