BEGIN:VCALENDAR
VERSION:2.0
PRODID:-//ChamberMaster//Event Calendar 2.0//EN
METHOD:PUBLISH
X-PUBLISHED-TTL:P3D
REFRESH-INTERVAL:P3D
CALSCALE:GREGORIAN
BEGIN:VEVENT
DTSTART:20190504T150000Z
DTEND:20190504T163000Z
X-MICROSOFT-CDO-ALLDAYEVENT:FALSE
SUMMARY:Mini Retreat with Jenn
DESCRIPTION:Gather together with Jennifer Doyle Boileau of Flow with Jennifer Boileau to call in the May flowers of Spring and create your own Haku Lei\, a traditional flower crown native to Hawaii. \n\n\n\nTogether we will experience a sound bath and guided meditation as we invite in the spirit of Aloha & the regrowth of everything that's just coming to life all around us. The sounds of the crystal alchemy bowls\, brilliant paiste gong & koshi chimes will rejuvenate you while relaxing you at the same time. \n\n\n\nAll materials will be provided for your Lei\, you'll get to enjoy a glass of wine afterward\, and you will each get to take home your special Lei! \n\n\n\n$45 per person.\n\n\n\n[Pre-registration required for materials]. Contact the winery to register at 410.885.2500 or email abigail@chateaubude.com
X-ALT-DESC;FMTTYPE=text/html:<div style="text-align: center\;"><span style="color:rgb(29\, 33\, 41)\; font-family:helvetica\,arial\,sans-serif\; font-size:14px">Gather together with </span><a href="https://www.facebook.com/JenniferDoyleBoileau" style="color: rgb(54\, 88\, 153)\; cursor: pointer\; text-decoration-line: none\; font-family: Helvetica\, Arial\, sans-serif\; font-size: 14px\; white-space: pre-wrap\;" target="_blank">Jennifer Doyle Boileau</a><span style="color:rgb(29\, 33\, 41)\; font-family:helvetica\,arial\,sans-serif\; font-size:14px"> of </span><a href="https://www.facebook.com/Flowwithjenn/" style="color: rgb(54\, 88\, 153)\; cursor: pointer\; text-decoration-line: none\; font-family: Helvetica\, Arial\, sans-serif\; font-size: 14px\; white-space: pre-wrap\;" target="_blank">Flow with Jennifer Boileau</a><span style="color:rgb(29\, 33\, 41)\; font-family:helvetica\,arial\,sans-serif\; font-size:14px"> to call in the May flowers of Spring and create your own Haku Lei\, a traditional flower crown native to Hawaii. </span><br />\n<br />\n<span style="color:rgb(29\, 33\, 41)\; font-family:helvetica\,arial\,sans-serif\; font-size:14px">Together we will experience a sound bath and guided meditation as we invite in the spirit of Aloha &amp\; the regrowth of everything that&rsquo\;s just coming to life all around us. The sounds of the crystal alchemy bowls\, brilliant paiste gong &amp\; koshi chimes will rejuvenate you while relaxing you at the same time. </span><br />\n<br />\n<span style="color:rgb(29\, 33\, 41)\; font-family:helvetica\,arial\,sans-serif\; font-size:14px">All materials will be provided for your Lei\, you&rsquo\;ll get to enjoy a glass of wine afterward\, and you will each get to take home your special Lei! </span><br />\n<br />\n<span style="color:rgb(29\, 33\, 41)\; font-family:helvetica\,arial\,sans-serif\; font-size:14px">$45 per person.</span><br />\n<br />\n<span style="color:rgb(29\, 33\, 41)\; font-family:helvetica\,arial\,sans-serif\; font-size:14px">[Pre-registration required for materials]. Contact the winery to register at 410.885.2500 or email abigail@chateaubude.com</span></div>\n
LOCATION:Chateau Bu-De Vineyard & Winery\, Bohemia Manor Farm
UID:e.1238.6907
SEQUENCE:3
DTSTAMP:20260424T085544Z
URL:http://business.maccde.com/events/details/mini-retreat-with-jenn-6907
END:VEVENT

END:VCALENDAR
