BEGIN:VCALENDAR
VERSION:2.0
PRODID:-//ChamberMaster//Event Calendar 2.0//EN
METHOD:PUBLISH
X-PUBLISHED-TTL:P3D
REFRESH-INTERVAL:P3D
CALSCALE:GREGORIAN
BEGIN:VEVENT
DTSTART:20180513T160000Z
DTEND:20180513T220000Z
X-MICROSOFT-CDO-ALLDAYEVENT:FALSE
SUMMARY:Mother's Day Sip & Shop
DESCRIPTION:Celebrate Mom with all her favorite things - shopping\, wine & beautiful views! Local shops will setup throughout the Tasting Room with samples & unique gifts for you to find something special for Mom. Join us from 12pm to 6pm to shop with the whole family for a day of shopping & wine. Estelle Lukoff Designs Painted Sky Alpaca Farm & Fiber Mill ~Carrie Sue's CupCakery~ Stella & Dot Style by Sonya Stover Pampered Chef Consultant Events Lucinda Faragher Independent Color Street Director Soaps by Dana with more local shops to be announced!
X-ALT-DESC;FMTTYPE=text/html:Celebrate Mom with all her favorite things - shopping\, wine &amp\; beautiful views! Local shops will setup throughout the Tasting Room with samples &amp\; unique gifts for you to find something special for Mom. Join us from 12pm to 6pm to shop with the whole family for a day of shopping &amp\; wine. Estelle Lukoff Designs Painted Sky Alpaca Farm &amp\; Fiber Mill ~Carrie Sue&#39\;s CupCakery~ Stella &amp\; Dot Style by Sonya Stover Pampered Chef Consultant Events Lucinda Faragher Independent Color Street Director Soaps by Dana with more local shops to be announced!
LOCATION:Chateau Bu-De Vineyard & Winery
UID:e.1238.4805
SEQUENCE:3
DTSTAMP:20260425T174827Z
URL:http://business.maccde.com/events/details/mother-s-day-sip-shop-4805
END:VEVENT

END:VCALENDAR
