BEGIN:VCALENDAR
VERSION:2.0
PRODID:-//ChamberMaster//Event Calendar 2.0//EN
METHOD:PUBLISH
X-PUBLISHED-TTL:P3D
REFRESH-INTERVAL:P3D
CALSCALE:GREGORIAN
BEGIN:VEVENT
DTSTART:20200127T223000Z
DTEND:20200128T000000Z
X-MICROSOFT-CDO-ALLDAYEVENT:FALSE
SUMMARY:New Year Evening Miixer
DESCRIPTION:
X-ALT-DESC;FMTTYPE=text/html:
LOCATION:New Year Evening Mixer Kick off the New Year with a fun filled evening mixer! Networking\, refreshments & door prizes too! January 27th MOT Senior Center 5:30 pm - 7:00 pm
UID:e.1238.7363
SEQUENCE:3
DTSTAMP:20260424T032939Z
URL:http://business.maccde.com/events/details/new-year-evening-miixer-7363
END:VEVENT

END:VCALENDAR
