BEGIN:VCALENDAR
VERSION:2.0
PRODID:-//ChamberMaster//Event Calendar 2.0//EN
METHOD:PUBLISH
X-PUBLISHED-TTL:P3D
REFRESH-INTERVAL:P3D
CALSCALE:GREGORIAN
BEGIN:VEVENT
DTSTART:20180410T160000Z
DTEND:20180410T180000Z
X-MICROSOFT-CDO-ALLDAYEVENT:FALSE
SUMMARY:Odessa National Broker's Luncheon hosted by JS Homes
DESCRIPTION:
X-ALT-DESC;FMTTYPE=text/html:
LOCATION:JS HOMES MODEL 549 Aviemore Drive Townsend\, DE RSVP: Stephanie Moschella\, 302-834-4900 x1 SMoschella@JSHomesDE.com
UID:e.1238.5026
SEQUENCE:3
DTSTAMP:20260425T131714Z
URL:http://business.maccde.com/events/details/odessa-national-broker-s-luncheon-hosted-by-js-homes-5026
END:VEVENT

END:VCALENDAR
