BEGIN:VCALENDAR
VERSION:2.0
PRODID:-//ChamberMaster//Event Calendar 2.0//EN
METHOD:PUBLISH
X-PUBLISHED-TTL:P3D
REFRESH-INTERVAL:P3D
CALSCALE:GREGORIAN
BEGIN:VEVENT
DTSTART:20180519T150000Z
DTEND:20180519T210000Z
X-MICROSOFT-CDO-ALLDAYEVENT:FALSE
SUMMARY:Open House at JS Homes Massey's Mill Community - Get Pre-Approved with Pike Creek Mortgage at the Event
DESCRIPTION:At JS Homes we understand the home buying journey - you need to know your buying power and finding out your price range now can save you a lot of time and energy in the future. This Saturday\, May 19th\, at our Sales Model in Massey's Mill\, Sean Foley\, from Pike Creek Mortgage Services will be there to help answer questions\, navigate you through the process and work with you on your mortgage pre-approval. You won't want to miss this opportunity!  Refreshments\, model tours\, updates on incentives ... don't miss it!
X-ALT-DESC;FMTTYPE=text/html:<span style="color:rgb(29\, 33\, 41)\; font-family:system-ui\,-apple-system\,system-ui\,.sfnstext-regular\,sans-serif\; font-size:14px">At JS Homes we understand the home buying journey - you need to know your buying power and finding out your price range now can save you a lot of time and energy in the future. This Saturday\, May 19th\, at our Sales Model in Massey&#39\;s Mill\, Sean Foley\, from Pike Creek Mortgage Services will be there to help answer questions\, navigate you through the process and work with you on your mortgage pre-approval. You won&#39\;t want to miss this opportunity!&nbsp\; Refreshments\, model tours\, updates on incentives ... don&#39\;t miss it!</span>
LOCATION:Massey's Mill 24 Hardy Cout Smyrna\, DE 19977
UID:e.1238.6454
SEQUENCE:3
DTSTAMP:20260425T180043Z
URL:http://business.maccde.com/events/details/open-house-at-js-homes-massey-s-mill-community-get-pre-approved-with-pike-creek-mortgage-at-the-event-6454
END:VEVENT

END:VCALENDAR
