BEGIN:VCALENDAR
VERSION:2.0
PRODID:-//ChamberMaster//Event Calendar 2.0//EN
METHOD:PUBLISH
X-PUBLISHED-TTL:P3D
REFRESH-INTERVAL:P3D
CALSCALE:GREGORIAN
BEGIN:VEVENT
DTSTART:20180624T170000Z
DTEND:20180624T210000Z
X-MICROSOFT-CDO-ALLDAYEVENT:FALSE
SUMMARY:OTF's First Annual Puppies\, Push-Ups\, and a Picnic
DESCRIPTION:Who doesn't love puppies\, working out\, and a nice old fashioned picnic? We're combining everyone's favorite things and throwing a giant party for you and your family to kick off the summer. Come spend some time with Orangetheory Fitness as you learn more about our workout while having a good time with your family at our first annual Puppies\, Push-ups\, and a Picnic event. We're encouraging everyone to bring their loved ones\, the furry ones especially. The event will take place at Charles E. Price Memorial Park at Pavilion 8\, 1-5pm. Call 302-483-7692 or e-mail studiomanager1067@orangetheoryfitness.com to RSVP!!!\n\n\n\n*First 50 people to RSVP will receive a FREE t-shirt\n\n*Bouncey house\, games\, vendors\n\n*BBQ cooked fresh by DLM Kusina Catering\n\n*Music by Uncrowned Sounds\n\n*Dog Friendly\n\n*Information sessions by our certified fitness coaches every 30 minutes and the LAST chance to get locked in at our founding membership rates before our Grand Opening\n\n\n\nVendors:\n\nPlaya Bowls\n\nWalk the Dog Pet Accesories\n\nBig Poppa Farms\n\nGlitter is the New Black\n\nK. Renae Makeup
X-ALT-DESC;FMTTYPE=text/html:<span style="color:rgb(29\, 33\, 41)\; font-family:helvetica\,arial\,sans-serif\; font-size:14px">Who doesn&#39\;t love puppies\, working out\, and a nice old fashioned picnic? We&#39\;re combining everyone&#39\;s favorite things and throwing a giant party for you and your family to kick off the summer. Come spend some time with Orangetheory Fitness as you learn more about our workout while having a good time with your family at our first annual Puppies\, Push-ups\, and a Picnic event. We&#39\;re encouraging everyone to bring their loved ones\, the furry ones especially. The event will take place at Charles E. Price Memorial Park at Pavilion 8\, 1-5pm. Call 302-483-7692 or e-mail studiomanager1067@orangetheoryfitness.com to RSVP!!!</span><br />\n<br />\n<span style="color:rgb(29\, 33\, 41)\; font-family:helvetica\,arial\,sans-serif\; font-size:14px">*First 50 people to RSVP will receive a FREE t-shirt</span><br />\n<span style="color:rgb(29\, 33\, 41)\; font-family:helvetica\,arial\,sans-serif\; font-size:14px">*Bouncey house\, games\, vendors</span><br />\n<span style="color:rgb(29\, 33\, 41)\; font-family:helvetica\,arial\,sans-serif\; font-size:14px">*BBQ cooked fresh by DLM Kusina Catering</span><br />\n<span style="color:rgb(29\, 33\, 41)\; font-family:helvetica\,arial\,sans-serif\; font-size:14px">*Music by Uncrowned Sounds</span><br />\n<span style="color:rgb(29\, 33\, 41)\; font-family:helvetica\,arial\,sans-serif\; font-size:14px">*Dog Friendly</span><br />\n<span style="color:rgb(29\, 33\, 41)\; font-family:helvetica\,arial\,sans-serif\; font-size:14px">*Information sessions by our certified fitness coaches every 30 minutes and the LAST chance to get locked in at our founding membership rates before our Grand Opening</span><br />\n<br />\n<span style="color:rgb(29\, 33\, 41)\; font-family:helvetica\,arial\,sans-serif\; font-size:14px">Vendors:</span><br />\n<span style="color:rgb(29\, 33\, 41)\; font-family:helvetica\,arial\,sans-serif\; font-size:14px">Playa Bowls</span><br />\n<span style="color:rgb(29\, 33\, 41)\; font-family:helvetica\,arial\,sans-serif\; font-size:14px">Walk the Dog Pet Accesories</span><br />\n<span style="color:rgb(29\, 33\, 41)\; font-family:helvetica\,arial\,sans-serif\; font-size:14px">Big Poppa Farms</span><br />\n<span style="color:rgb(29\, 33\, 41)\; font-family:helvetica\,arial\,sans-serif\; font-size:14px">Glitter is the New Black</span><br />\n<span style="color:rgb(29\, 33\, 41)\; font-family:helvetica\,arial\,sans-serif\; font-size:14px">K. Renae Makeup</span>
LOCATION:Charles E. Price Memorial Park (Pavilion 8) 955 Levels Road Middletown\, DE 19709
UID:e.1238.6471
SEQUENCE:3
DTSTAMP:20260425T145513Z
URL:http://business.maccde.com/events/details/otf-s-first-annual-puppies-push-ups-and-a-picnic-6471
END:VEVENT

END:VCALENDAR
