BEGIN:VCALENDAR
VERSION:2.0
PRODID:-//ChamberMaster//Event Calendar 2.0//EN
METHOD:PUBLISH
X-PUBLISHED-TTL:P3D
REFRESH-INTERVAL:P3D
CALSCALE:GREGORIAN
BEGIN:VEVENT
DTSTART:20130506T160000Z
DTEND:20130506T170000Z
X-MICROSOFT-CDO-ALLDAYEVENT:FALSE
SUMMARY:Our Daily Bread Free Meal
DESCRIPTION:Please pass along to anyone in need.
X-ALT-DESC;FMTTYPE=text/html:Please pass along to anyone in need. &nbsp\;
LOCATION:Dale U.M. Church
UID:e.1238.143
SEQUENCE:3
DTSTAMP:20260421T083827Z
URL:http://business.maccde.com/events/details/our-daily-bread-free-meal-05-06-2013-143
END:VEVENT

END:VCALENDAR
