BEGIN:VCALENDAR
VERSION:2.0
PRODID:-//ChamberMaster//Event Calendar 2.0//EN
METHOD:PUBLISH
X-PUBLISHED-TTL:P3D
REFRESH-INTERVAL:P3D
CALSCALE:GREGORIAN
BEGIN:VEVENT
DTSTART:20130603T160000Z
DTEND:20130603T173000Z
X-MICROSOFT-CDO-ALLDAYEVENT:FALSE
SUMMARY:Our Daily Bread Free Meal
DESCRIPTION:Warm meals are served from the Dale United Methodist Church\, located at 143 E. Lake Street in Middletown\, from 12-1:30pm.  Please pass along to anyone in need.  Thank you.
X-ALT-DESC;FMTTYPE=text/html:Warm meals are served from the Dale United Methodist Church\, located at 143 E. Lake Street in Middletown\, from 12-1:30pm. &nbsp\;Please pass along to anyone in need. &nbsp\;Thank you.&nbsp\;
LOCATION:Dale United Methodist Church
UID:e.1238.146
SEQUENCE:3
DTSTAMP:20260419T160240Z
URL:http://business.maccde.com/events/details/our-daily-bread-free-meal-06-03-2013-146
END:VEVENT

END:VCALENDAR
