BEGIN:VCALENDAR
VERSION:2.0
PRODID:-//ChamberMaster//Event Calendar 2.0//EN
METHOD:PUBLISH
X-PUBLISHED-TTL:P3D
REFRESH-INTERVAL:P3D
CALSCALE:GREGORIAN
BEGIN:VEVENT
DTSTART:20180508T123000Z
DTEND:20180508T163000Z
X-MICROSOFT-CDO-ALLDAYEVENT:FALSE
SUMMARY:Sandler Coaching Your Team Workshop “All Coaching is\, is taking your players where they can’t take themselves.” Bill McCartney Legendary University of Colorado football coach
DESCRIPTION:Explore why effective coaching may be the missing ingredient to your sales team's success. Join Sandler's Boot Camp\, "Coaching Your Team to Success" where you'll learn: *Five ROI reasons to invest in coaching * Creating the coaching contract *Conducting a gap analysis *Effective coaching skills *Developing Trust *Moving it Forward
X-ALT-DESC;FMTTYPE=text/html:Explore why effective coaching may be the missing ingredient to your sales team&rsquo\;s success. Join Sandler&rsquo\;s Boot Camp\, &ldquo\;Coaching Your Team to Success&rdquo\; where you&rsquo\;ll learn: *Five ROI reasons to invest in coaching * Creating the coaching contract *Conducting a gap analysis *Effective coaching skills *Developing Trust *Moving it Forward
LOCATION:J. Taibi Group - Sandler Training Brandywine Executive Center 1521 Concord Pike\, Suite 301 - 3rd floor (Turn left off elevator) Wilmington\, Delaware 19803 3 minutes off 95 N - exit to Rt. 202 N
UID:e.1238.5431
SEQUENCE:3
DTSTAMP:20260425T131823Z
URL:http://business.maccde.com/events/details/sandler-coaching-your-team-workshop-all-coaching-is-is-taking-your-players-where-they-can-t-take-themselves-bill-mccartney-legendary-university-of-colorado-football-coach-5431
END:VEVENT

END:VCALENDAR
