BEGIN:VCALENDAR
VERSION:2.0
PRODID:-//ChamberMaster//Event Calendar 2.0//EN
METHOD:PUBLISH
X-PUBLISHED-TTL:P3D
REFRESH-INTERVAL:P3D
CALSCALE:GREGORIAN
BEGIN:VEVENT
DTSTART:20190330T211500Z
DTEND:20190331T020000Z
X-MICROSOFT-CDO-ALLDAYEVENT:FALSE
SUMMARY:Stanley Fundfraiser for LLS of DE
DESCRIPTION:ARE YOU IN THE MOOD for the sounds of the Big Band Era? Join us to enjoy the music of RADIO KING ORCHESTRA (Chic and elegant entertainment recreating the sophistication of a 1940's New York Supper Club to the cool elegance and care-free nature of the cherished Rat Pack. Hors'doeurves\, Silent Auction\, Sit Down Dinner\, Show and Dancing! In memory of Bruce Stanley\, Joy for Mary Ann Malewski's remission\, Hope for NJon Walczak\, Tom Brown\, and Lori Gorsch's battles. Net proceeds go to the Leukemia and Lymphoma Society of DE. All sponsorships go directly to LLS of DE Please contact Carolyn Stanley for sponsorship opportunities.
X-ALT-DESC;FMTTYPE=text/html:ARE YOU IN THE MOOD for the sounds of the Big Band Era? Join us to enjoy the music of RADIO KING ORCHESTRA (Chic and elegant entertainment recreating the sophistication of a 1940&#39\;s New York Supper Club to the cool elegance and care-free nature of the cherished Rat Pack. Hors&#39\;doeurves\, Silent Auction\, Sit Down Dinner\, Show and Dancing! In memory of Bruce Stanley\, Joy for Mary Ann Malewski&#39\;s remission\, Hope for NJon Walczak\, Tom Brown\, and Lori Gorsch&#39\;s battles. Net proceeds go to the Leukemia and Lymphoma Society of DE. All sponsorships go directly to LLS of DE Please contact Carolyn Stanley for sponsorship opportunities.
LOCATION:Executive Banquet and Conference Center 205 Executive Drive Newark DE 19702
UID:e.1238.6594
SEQUENCE:3
DTSTAMP:20260425T233855Z
URL:http://business.maccde.com/events/details/stanley-fundfraiser-for-lls-of-de-6594
END:VEVENT

END:VCALENDAR
