BEGIN:VCALENDAR
VERSION:2.0
PRODID:-//ChamberMaster//Event Calendar 2.0//EN
METHOD:PUBLISH
X-PUBLISHED-TTL:P3D
REFRESH-INTERVAL:P3D
CALSCALE:GREGORIAN
BEGIN:VEVENT
DTSTART:20130812T140000Z
DTEND:20130812T180000Z
X-MICROSOFT-CDO-ALLDAYEVENT:FALSE
SUMMARY:Vendors for - Veteran's Employment Expo
DESCRIPTION:VETERANS' JOB FAIR\n\n	\n\n	HOSTED BY DELAWARE'S CONGRESSIONAL DELEGATION U.S. SENATOR TOM CARPER ~ U.S. SENATOR CHRIS COONS U.S. CONGRESSMAN JOHN CARNEY \n\n	EXHIBITOR SIGN-UP \n\n	Company Name: ______________________ Contact Name: _______________________ \n\n	Address: _______________________________________________\n\n	City: ________________________ State: ___________ Zip Code: ____________________ \n\n	E-Mail Address: ________________________________ \n\n	PLEASE INDICATE THE JOB FAIR(S) YOU WILL BE ATTENDING \n\n	Friday\, August 2\, 2013: 10:00am   2:00pm _____ Bridgeville Library\, 600 South Cannon Street\, Bridgeville\, DE 19933 \n\n	Monday\, August 12\, 2013: 10:00am-2:00pm _____ Middletown Volunteer Hose Company\, 27 West Green Street\, Middletown\, DE 19709 \n\n	How many available positions do you seek to fill? (Response required) __________________________________________________________ \n\n	Will you need a space to conduct on-site interviews? (Response required) YES NO \n\n	Types of jobs available: (Response required) \n\n	______________________________________________________________________________ ______________________________________________________________________________ \n\n	Requirements for open positions (College degree\, diploma\, certification) \n\n	______________________________________________________________________________ ______________________________________________________________________________ ______________________________________________________________________________ \n\n	Electricity needed: YES NO (We cannot guarantee electricity\, but we will do our best to accommodate) \n\n	Do you have a table cover? YES NO \n\n	If you have any questions\, please feel free to email Lauren Mick at jobfair@carper.senate.gov or call (302) 674-3308
X-ALT-DESC;FMTTYPE=text/html:<p class="Default" style="margin: 0in 0in 0pt">\n	<font face="Times New Roman"><font color="#000000"><b><span style="font-size: 11.5pt">VETERANS&#39\; JOB FAIR<br />\n	<br />\n	<b><font size="3">HOSTED BY DELAWARE&rsquo\;S CONGRESSIONAL DELEGATION </font></b><font face="Times New Roman\,Times New Roman" size="3"><font face="Times New Roman\,Times New Roman" size="3">U.S. SENATOR TOM CARPER ~ U.S. SENATOR CHRIS COONS U.S. CONGRESSMAN JOHN CARNEY </font></font></span></b></font></font></p>\n<p class="Default" style="margin: 0in 0in 0pt">\n	<font face="Times New Roman"><font color="#000000"><b><span style="font-size: 11.5pt">EXHIBITOR SIGN-UP </span></b></font></font></p>\n<p class="Default" style="margin: 0in 0in 0pt">\n	<span style="font-size: 11.5pt"><font face="Times New Roman"><font color="#000000">Company Name: ______________________ Contact Name: _______________________ </font></font></span></p>\n<p class="Default" style="margin: 0in 0in 0pt">\n	<span style="font-size: 11.5pt"><font face="Times New Roman"><font color="#000000">Address: _______________________________________________</font></font></span></p>\n<p class="Default" style="margin: 0in 0in 0pt">\n	<span style="font-size: 11.5pt"><font face="Times New Roman"><font color="#000000">City: ________________________ State: ___________ Zip Code: ____________________ </font></font></span></p>\n<p class="Default" style="margin: 0in 0in 0pt">\n	<span style="font-size: 11.5pt"><font face="Times New Roman"><font color="#000000">E-Mail Address: ________________________________ </font></font></span></p>\n<p class="Default" style="margin: 0in 0in 0pt">\n	<font face="Times New Roman"><font color="#000000"><b><span style="font-size: 14pt">PLEASE INDICATE THE JOB FAIR(S) YOU WILL BE ATTENDING </span></b></font></font></p>\n<p class="Default" style="margin: 0in 0in 0pt">\n	<font face="Times New Roman"><font color="#000000"><b><span style="font-size: 11.5pt">Friday\, August 2\, 2013: 10:00am &ndash\; 2:00pm _____ </span></b><span style="font-size: 11.5pt">Bridgeville Library\, 600 South Cannon Street\, Bridgeville\, DE 19933 </span></font></font></p>\n<p class="Default" style="margin: 0in 0in 0pt">\n	<font face="Times New Roman"><font color="#000000"><b><span style="font-size: 11.5pt">Monday\, August 12\, 2013: 10:00am-2:00pm _____ </span></b><span style="font-size: 11.5pt">Middletown Volunteer Hose Company\, 27 West Green Street\, Middletown\, DE 19709 </span></font></font></p>\n<p class="Default" style="margin: 0in 0in 0pt">\n	<font face="Times New Roman"><font color="#000000"><b><span style="font-size: 11.5pt">How many available positions do you seek to fill? </span></b><span style="font-size: 11.5pt">(<i>Response required</i>) __________________________________________________________ </span></font></font></p>\n<p class="Default" style="margin: 0in 0in 0pt">\n	<font face="Times New Roman"><font color="#000000"><b><span style="font-size: 11.5pt">Will you need a space to conduct on-site interviews? </span></b><span style="font-size: 11.5pt">(<i>Response required</i>) YES NO </span></font></font></p>\n<p class="Default" style="margin: 0in 0in 0pt">\n	<font face="Times New Roman"><font color="#000000"><b><span style="font-size: 11.5pt">Types of jobs available: </span></b><span style="font-size: 11.5pt">(<i>Response required</i>) </span></font></font></p>\n<p class="Default" style="margin: 0in 0in 0pt">\n	<span style="font-size: 11.5pt"><font face="Times New Roman"><font color="#000000">______________________________________________________________________________ ______________________________________________________________________________ </font></font></span></p>\n<p class="Default" style="margin: 0in 0in 0pt">\n	<font face="Times New Roman"><font color="#000000"><b><span style="font-size: 11.5pt">Requirements for open positions </span></b><span style="font-size: 11.5pt">(<i>College degree\, diploma\, certification</i>) </span></font></font></p>\n<p class="Default" style="margin: 0in 0in 0pt">\n	<span style="font-size: 11.5pt"><font face="Times New Roman"><font color="#000000">______________________________________________________________________________ ______________________________________________________________________________ ______________________________________________________________________________ </font></font></span></p>\n<p class="Default" style="margin: 0in 0in 0pt">\n	<font face="Times New Roman"><font color="#000000"><b><span style="font-size: 11.5pt">Electricity needed: </span></b><span style="font-size: 11.5pt">YES NO (<i>We cannot guarantee electricity\, but we will do our best to accommodate</i>) </span></font></font></p>\n<p class="Default" style="margin: 0in 0in 0pt">\n	<font face="Times New Roman"><font color="#000000"><b><span style="font-size: 11.5pt">Do you have a table cover? </span></b><span style="font-size: 11.5pt">YES NO </span></font></font></p>\n<p class="MsoNormal" style="margin: 0in 0in 10pt">\n	<b><span style="line-height: 115%\; font-size: 11.5pt"><font color="#000000" face="Calibri">If you have any questions\, please feel free to email Lauren Mick at jobfair@carper.senate.gov or call (302) 674-3308</font></span></b></p>\n
LOCATION:Middletown Hose Fire Department
UID:e.1238.175
SEQUENCE:3
DTSTAMP:20260419T123637Z
URL:http://business.maccde.com/events/details/vendors-for-veteran-s-employment-expo-08-12-2013-175
END:VEVENT

END:VCALENDAR
