BEGIN:VCALENDAR
VERSION:2.0
PRODID:-//ChamberMaster//Event Calendar 2.0//EN
METHOD:PUBLISH
X-PUBLISHED-TTL:P3D
REFRESH-INTERVAL:P3D
CALSCALE:GREGORIAN
BEGIN:VEVENT
DTSTART:20180617T150000Z
DTEND:20180617T200000Z
X-MICROSOFT-CDO-ALLDAYEVENT:FALSE
SUMMARY:Vines\, Wines & Automobiles | Car Show
DESCRIPTION:Join us on Sunday\, June 17th from 11:00am to 4:00pm for our first Vines\, Wines & Automobiles Car Show featuring hundreds of high end & classic cars. It's Father's Day\, what better way to celebrate Dad than taking him to see cars\, listen to live music by The Mixx/The Mixx Unplugged\, enjoy local food from The Wandering Chef Catering Cart and Troops Barbecue & Catering & buy him a few drinks! There will be a $10 Spectator entrance fee for guests all day. Kids 12 and under are free to enter! For Information on Car Entry: Car Entry | $20 Water Front Car Entry | $50 Car entry includes the driver\, other passengers will have to pay the spectator fee. Austin Bender | 443.945.6249 or austinbndr28@aol.com Ash Bender | 410.920.7686 or bendera287@gmail.com
X-ALT-DESC;FMTTYPE=text/html:Join us on Sunday\, June 17th from 11:00am to 4:00pm for our first Vines\, Wines &amp\; Automobiles Car Show featuring hundreds of high end &amp\; classic cars. It&#39\;s Father&#39\;s Day\, what better way to celebrate Dad than taking him to see cars\, listen to live music by The Mixx/The Mixx Unplugged\, enjoy local food from The Wandering Chef Catering Cart and Troops Barbecue &amp\; Catering &amp\; buy him a few drinks! There will be a $10 Spectator entrance fee for guests all day. Kids 12 and under are free to enter! For Information on Car Entry: Car Entry | $20 Water Front Car Entry | $50 Car entry includes the driver\, other passengers will have to pay the spectator fee. Austin Bender | 443.945.6249 or austinbndr28@aol.com Ash Bender | 410.920.7686 or bendera287@gmail.com
LOCATION:Chateau Bu-De Vineyard & Winery
UID:e.1238.4807
SEQUENCE:3
DTSTAMP:20260425T145736Z
URL:http://business.maccde.com/events/details/vines-wines-automobiles-car-show-4807
END:VEVENT

END:VCALENDAR
