BEGIN:VCALENDAR
VERSION:2.0
PRODID:-//ChamberMaster//Event Calendar 2.0//EN
METHOD:PUBLISH
X-PUBLISHED-TTL:P3D
REFRESH-INTERVAL:P3D
CALSCALE:GREGORIAN
BEGIN:VEVENT
DTSTART:20190919T223000Z
DTEND:20190920T000000Z
X-MICROSOFT-CDO-ALLDAYEVENT:FALSE
SUMMARY:VOM meeting
DESCRIPTION:Veteran's Outreach Ministries (VOM) Meeting at Victory Village\, 554 Port Penn Road\, Middletown De\, 6:30pm. come see what we are about.Please call Tom Hogate if you are planning to attend. Phone no: 1-302-229-1819
X-ALT-DESC;FMTTYPE=text/html:Veteran&#39\;s Outreach Ministries (VOM) Meeting at Victory Village\, 554 Port Penn Road\, Middletown De\, 6:30pm. come see what we are about.Please call Tom Hogate if you are planning to attend. Phone no: 1-302-229-1819
LOCATION:Victory Village 554 Port Penn Road Middletown De
UID:e.1238.7285
SEQUENCE:3
DTSTAMP:20260424T054956Z
URL:http://business.maccde.com/events/details/vom-meeting-7285
END:VEVENT

END:VCALENDAR
