BEGIN:VCALENDAR
VERSION:2.0
PRODID:-//ChamberMaster//Event Calendar 2.0//EN
METHOD:PUBLISH
X-PUBLISHED-TTL:P3D
REFRESH-INTERVAL:P3D
CALSCALE:GREGORIAN
BEGIN:VEVENT
DTSTART:20190407T160000Z
DTEND:20190407T200000Z
X-MICROSOFT-CDO-ALLDAYEVENT:FALSE
SUMMARY:Wine & Chocolate Pairing
DESCRIPTION:Join us for a pairing of award winning Crow wines and fine chocolates. Nolia Chocolates specializes in small batch\, intensely flavored confections.
X-ALT-DESC;FMTTYPE=text/html:<span style="color:rgb(0\, 0\, 0)\; font-family:merriweather\; font-size:16px">Join us for a pairing of award winning Crow wines and fine chocolates. Nolia Chocolates specializes in small batch\, intensely flavored confections.</span>
LOCATION:Crow Vineyard & Winery 12241 Vansants Corner Road Kennedyville\, MD 21645
UID:e.1238.6897
SEQUENCE:3
DTSTAMP:20260424T095613Z
URL:http://business.maccde.com/events/details/wine-chocolate-pairing-04-07-2019-6897
END:VEVENT

END:VCALENDAR
