BEGIN:VCALENDAR
VERSION:2.0
PRODID:-//ChamberMaster//Event Calendar 2.0//EN
METHOD:PUBLISH
X-PUBLISHED-TTL:P3D
REFRESH-INTERVAL:P3D
CALSCALE:GREGORIAN
BEGIN:VEVENT
DTSTART:20191208T170000Z
DTEND:20191208T230000Z
X-MICROSOFT-CDO-ALLDAYEVENT:FALSE
SUMMARY:Rivers to Canal Sip & Shop
DESCRIPTION:Join the wineries of the Rivers To Canal Wine Trail\; Broken Spoke\, Chateau Bu De and Crow Vineyard\; for an afternoon of wine tasting coupled with holiday shopping. Your ticket includes tastings at each winery\, a souvenir "Rivers to Canal" glass\, a holiday shopping experience with local artisans and shuttle bus service between the three locations.
X-ALT-DESC;FMTTYPE=text/html:<span style="background-color:rgb(155\, 0\, 0)\; color:rgb(246\, 255\, 185)\; font-family:georgia\,times new roman\,times\,serif\; font-size:12px">Join the wineries of the Rivers To Canal Wine Trail\; Broken Spoke\, Chateau Bu De and Crow Vineyard\; for an afternoon of wine tasting coupled with holiday shopping. Your ticket includes tastings at each winery\, a souvenir &quot\;Rivers to Canal&quot\; glass\, a holiday shopping experience with local artisans and shuttle bus service between the three locations.</span>
LOCATION:Crow Vineyard & Winery 12441 Vansants Corner Road Kennedyville\, MD 21645
UID:e.1238.7303
SEQUENCE:3
DTSTAMP:20260424T133455Z
URL:https://business.maccde.com/events/details/rivers-to-canal-sip-shop-7303
END:VEVENT

END:VCALENDAR
