BEGIN:VCALENDAR
VERSION:2.0
PRODID:-//ChamberMaster//Event Calendar 2.0//EN
METHOD:PUBLISH
X-PUBLISHED-TTL:P3D
REFRESH-INTERVAL:P3D
CALSCALE:GREGORIAN
BEGIN:VEVENT
DTSTART:20200725T220000Z
DTEND:20200726T010000Z
X-MICROSOFT-CDO-ALLDAYEVENT:FALSE
SUMMARY:Run the Vineyards - Crow 5K
DESCRIPTION:Run for Wine at at the Amazing Crow Vineyard! NEW IN 2020 -- Summer Evening Race featuring Post- Race Barbecue!\n\nRace and Post Race Features Include:\n\n\n	Chip-Timed 5K Run with instant results\n	Flat Cross Country style course through the 365 acre farm and 12 acre vineyard\n	Post Run Wine (1 complimentary glass of wine included for those 21 and older)\n	Live music during Post- Race Festivities\n	Barbecue available following the run...farm-raised fresh angus beef and vegetarian options\n	Lawn games for all!\n	Free downloadable Photos\n	Tech Giveaways with Tanks and Men's Sleeveless options...Shirt and Souvenir wine glass for all participants \n	Awards for Fastest Runners (Top 3 Overall Male and Female\, and Top 3 Male/Female per age Group)\n	Walkers Welcome...must be registered\n	Race Day Packet Pick-Up Available from 4:30- 5:30 PM at Crow Vineyard
X-ALT-DESC;FMTTYPE=text/html:<h2>Run for Wine at at the Amazing&nbsp\;<em>Crow Vineyard! NEW IN 2020 -- Summer Evening Race featuring Post- Race Barbecue!</em></h2>\n\n<h5><span style="color:rgb(0\, 0\, 0)">Race and Post Race Features Include:</span></h5>\n\n<ul>\n	<li>Chip-Timed 5K Run with instant results</li>\n	<li>Flat Cross Country style course through the 365 acre farm and 12 acre vineyard</li>\n	<li>Post Run Wine (1 complimentary glass of wine included for those 21 and older)</li>\n	<li>Live music during Post- Race Festivities</li>\n	<li>Barbecue available following the run...farm-raised fresh angus beef and vegetarian options</li>\n	<li>Lawn games for all!</li>\n	<li>Free downloadable Photos</li>\n	<li>Tech Giveaways with Tanks and Men&#39\;s Sleeveless options...Shirt and Souvenir wine glass for all participants&nbsp\;</li>\n	<li>Awards for Fastest Runners (Top 3 Overall Male and Female\, and Top 3 Male/Female per age Group)</li>\n	<li>Walkers Welcome...must be registered</li>\n	<li>Race Day Packet Pick-Up Available from 4:30- 5:30 PM at Crow Vineyard&nbsp\;</li>\n</ul>\n
LOCATION:Crow Vineyard & Winery 12441 Vansants Corner Road Kennedyville\, MD 21645
UID:e.1238.7533
SEQUENCE:3
DTSTAMP:20260425T195250Z
URL:https://business.maccde.com/events/details/run-the-vineyards-crow-5k-7533
END:VEVENT

END:VCALENDAR
