BEGIN:VCALENDAR
VERSION:2.0
PRODID:-//ChamberMaster//Event Calendar 2.0//EN
METHOD:PUBLISH
X-PUBLISHED-TTL:P3D
REFRESH-INTERVAL:P3D
CALSCALE:GREGORIAN
BEGIN:VEVENT
DTSTART:20200308T170000Z
DTEND:20200308T190000Z
X-MICROSOFT-CDO-ALLDAYEVENT:FALSE
SUMMARY:Wine Seminar Series 2: Pairing Food & Wine
DESCRIPTION:Crow wines are excellent paired with a variety of foods and we pride ourselves in pairing with local cuisine. Learn the art of food and wine pairing through guided tastings and presentation.
X-ALT-DESC;FMTTYPE=text/html:<span style="font-family:arial\,helvetica\,sans-serif\; font-size:12px">Crow wines are excellent paired with a variety of foods and we pride ourselves in pairing with local cuisine. Learn the art of food and wine pairing through guided tastings and presentation.</span>
LOCATION:Crow Vineyard & Winery 12441 Vansants Corner Road Kennedyville\, MD 21645
UID:e.1238.7357
SEQUENCE:3
DTSTAMP:20260426T015559Z
URL:https://business.maccde.com/events/details/wine-seminar-series-2-pairing-food-wine-7357
END:VEVENT

END:VCALENDAR
